BEGIN:VCALENDAR
VERSION:2.0
PRODID:-//The Rolfing® Association of Canada - ECPv6.15.20//NONSGML v1.0//EN
CALSCALE:GREGORIAN
METHOD:PUBLISH
X-ORIGINAL-URL:https://rolfingcanada.org
X-WR-CALDESC:Events for The Rolfing® Association of Canada
REFRESH-INTERVAL;VALUE=DURATION:PT1H
X-Robots-Tag:noindex
X-PUBLISHED-TTL:PT1H
BEGIN:VTIMEZONE
TZID:America/Edmonton
BEGIN:DAYLIGHT
TZOFFSETFROM:-0700
TZOFFSETTO:-0600
TZNAME:MDT
DTSTART:20250309T090000
END:DAYLIGHT
BEGIN:STANDARD
TZOFFSETFROM:-0600
TZOFFSETTO:-0700
TZNAME:MST
DTSTART:20251102T080000
END:STANDARD
BEGIN:DAYLIGHT
TZOFFSETFROM:-0700
TZOFFSETTO:-0600
TZNAME:MDT
DTSTART:20260308T090000
END:DAYLIGHT
BEGIN:STANDARD
TZOFFSETFROM:-0600
TZOFFSETTO:-0700
TZNAME:MST
DTSTART:20261101T080000
END:STANDARD
BEGIN:DAYLIGHT
TZOFFSETFROM:-0700
TZOFFSETTO:-0600
TZNAME:MDT
DTSTART:20270314T090000
END:DAYLIGHT
BEGIN:STANDARD
TZOFFSETFROM:-0600
TZOFFSETTO:-0700
TZNAME:MST
DTSTART:20271107T080000
END:STANDARD
END:VTIMEZONE
BEGIN:VEVENT
DTSTART;TZID=America/Edmonton:20260204T090000
DTEND;TZID=America/Edmonton:20260207T170000
DTSTAMP:20260422T031057
CREATED:20250226T161055Z
LAST-MODIFIED:20251126T022344Z
UID:7420-1770195600-1770483600@rolfingcanada.org
SUMMARY:Volumetric Pelvic CE training
DESCRIPTION:THE VOLUMETRIC PELVIS \nJuan David Velez\, senior faculty member of the Dr. Ida Rolf Institute (DIRI)\, will be teaching The Volumetric Pelvis class in White Rock\, BC from 4-7 February\, 2026. \nCE Credits: 4 Required Intermediate credits towards DIRI’s Advanced Training \nPlease Note* Cost of Training is in USD. \nCost: US $875 or $800 if registered before December 11\, 2025 (Space is limited). \n28 IASI Continuing Education hours\nFor more information and to register:  https://rolfingalchemy.com/classes
URL:https://rolfingcanada.org/event/volumetric-pelvic-ce-training/
LOCATION:White Rock\, British Columbia\, 2141 Cranley Drive\, White Rock\, British Columbia\, V4A 5K6\, Canada
CATEGORIES:Continuing Education
END:VEVENT
BEGIN:VEVENT
DTSTART;TZID=America/Edmonton:20260330T083000
DTEND;TZID=America/Edmonton:20260330T173000
DTSTAMP:20260422T031057
CREATED:20260126T001221Z
LAST-MODIFIED:20260126T001221Z
UID:7609-1774859400-1774891800@rolfingcanada.org
SUMMARY:Rolf Movement Mini Workshop
DESCRIPTION:One Day Rolf Movement Workshop with Juan David Velez in Edmonton\, AB on Monday\, March 30\, 2026. \nThis workshop is open to all SI practitioners.  Contact the Rolfing Association of Canada for more information or to register at education@rolfingcanada.org. \nCE Credits: 1 Required Rolf Movement credit towards DIRI’s Advanced Training or Rolf Movement Certification. \nCost: $250 CAD (Space is limited). \n**If the demand is high for this course the class will move to an alternate venue. \n 
URL:https://rolfingcanada.org/event/rolf-movement-mini-workshop/
LOCATION:Chiropractic Plus Wellness\, 9811 34 Avenue NW #101\, Edmonton\, AB\, T6E 5X9\, Canada
CATEGORIES:Continuing Education
END:VEVENT
BEGIN:VEVENT
DTSTART;TZID=America/Edmonton:20260413T083000
DTEND;TZID=America/Edmonton:20260413T173000
DTSTAMP:20260422T031057
CREATED:20260126T001511Z
LAST-MODIFIED:20260126T001511Z
UID:7612-1776069000-1776101400@rolfingcanada.org
SUMMARY:Neck and Cranium Workshop
DESCRIPTION:One Day\, Neck and Cranium Workshop with Juan David Velez in Edmonton\, AB on Monday\, April 13\, 2026. \nThis workshop is open to all SI practitioners.  Contact the Rolfing Association of Canada for more information or to register at education@rolfingcanada.org. \nCE Credits: 1 Required Intermediate credit towards DIRI’s Advanced Training Prerequisites. \nCost: $250 CAD (Space is limited to 6 spots). \n 
URL:https://rolfingcanada.org/event/neck-and-cranium-workshop/
LOCATION:Chiropractic Plus Wellness\, 9811 34 Avenue NW #101\, Edmonton\, AB\, T6E 5X9\, Canada
CATEGORIES:Continuing Education
END:VEVENT
BEGIN:VEVENT
DTSTART;TZID=America/Edmonton:20260503T120000
DTEND;TZID=America/Edmonton:20260503T133000
DTSTAMP:20260422T031057
CREATED:20260403T220059Z
LAST-MODIFIED:20260403T221318Z
UID:7737-1777809600-1777815000@rolfingcanada.org
SUMMARY:2026 Annual General Meeting (AGM)
DESCRIPTION:Sunday May 3\, 2026 @ 12:00 pm – 1:30 pm\n\n\nThe 2026 Annual General Meeting will be held via zoom call.  There will be an informational guest speaker and opportunities to join the board.  Take part in your professional organization to help build and support our profession. \n  \n  \nLink for the Zoom call will be sent out the week prior to meeting.  Keep an eye on your email for it and JOIN US! \n  \n**Take note of the time of the meeting for your time zone: \n\n11:00 AM Pacific \n12:00 AM Mountain \n2:00 PM Eastern \n03:00  PM Atlantic \n03:30 PM Newfoundland
URL:https://rolfingcanada.org/event/2026-annual-general-meeting-agm/
END:VEVENT
END:VCALENDAR