BEGIN:VCALENDAR
VERSION:2.0
PRODID:-//The Rolfing® Association of Canada - ECPv6.15.20//NONSGML v1.0//EN
CALSCALE:GREGORIAN
METHOD:PUBLISH
X-WR-CALNAME:The Rolfing® Association of Canada
X-ORIGINAL-URL:https://rolfingcanada.org
X-WR-CALDESC:Events for The Rolfing® Association of Canada
REFRESH-INTERVAL;VALUE=DURATION:PT1H
X-Robots-Tag:noindex
X-PUBLISHED-TTL:PT1H
BEGIN:VTIMEZONE
TZID:America/Edmonton
BEGIN:DAYLIGHT
TZOFFSETFROM:-0700
TZOFFSETTO:-0600
TZNAME:MDT
DTSTART:20230312T090000
END:DAYLIGHT
BEGIN:STANDARD
TZOFFSETFROM:-0600
TZOFFSETTO:-0700
TZNAME:MST
DTSTART:20231105T080000
END:STANDARD
BEGIN:DAYLIGHT
TZOFFSETFROM:-0700
TZOFFSETTO:-0600
TZNAME:MDT
DTSTART:20240310T090000
END:DAYLIGHT
BEGIN:STANDARD
TZOFFSETFROM:-0600
TZOFFSETTO:-0700
TZNAME:MST
DTSTART:20241103T080000
END:STANDARD
BEGIN:DAYLIGHT
TZOFFSETFROM:-0700
TZOFFSETTO:-0600
TZNAME:MDT
DTSTART:20250309T090000
END:DAYLIGHT
BEGIN:STANDARD
TZOFFSETFROM:-0600
TZOFFSETTO:-0700
TZNAME:MST
DTSTART:20251102T080000
END:STANDARD
BEGIN:DAYLIGHT
TZOFFSETFROM:-0700
TZOFFSETTO:-0600
TZNAME:MDT
DTSTART:20260308T090000
END:DAYLIGHT
BEGIN:STANDARD
TZOFFSETFROM:-0600
TZOFFSETTO:-0700
TZNAME:MST
DTSTART:20261101T080000
END:STANDARD
END:VTIMEZONE
BEGIN:VEVENT
DTSTART;TZID=America/Edmonton:20251017T133000
DTEND;TZID=America/Edmonton:20251018T173000
DTSTAMP:20260422T044327
CREATED:20250820T192054Z
LAST-MODIFIED:20250820T211430Z
UID:7473-1760707800-1760808600@rolfingcanada.org
SUMMARY:Fascia:  Why integration matters 2025 Global Summit
DESCRIPTION:October 17 & 18\, 2025 \nFascia:  Why integration Matters 2025 Global Summit\nOnline conference \nTo register:  www.rolf.org/fascia_why_integration_matter.php \nPlan today to attend this vital gathering for the international Rolfing community to connect\, learn\, and advance the practice of Rolfing® Structural Integration. \n\nThe $25 fee to attend supports conference operations\, and all excess proceeds will directly fund the archiving of Dr. Ida Rolf’s audio and video to preserve her legacy.\n\n\nSchedule\nFriday\, October 17th:  1:30 – 5:30 PM MDT \nSaturday\, October 18th:  7:00 AM – 5:30 PM MDT \n\n  \n 
URL:https://rolfingcanada.org/event/fascia-why-integration-matters-2025-global-summit/
LOCATION:online
CATEGORIES:Conferences,Continuing Education
END:VEVENT
BEGIN:VEVENT
DTSTART;TZID=America/Edmonton:20251014T080000
DTEND;TZID=America/Edmonton:20251127T173000
DTSTAMP:20260422T044327
CREATED:20250703T160027Z
LAST-MODIFIED:20250703T160027Z
UID:7439-1760428800-1764264600@rolfingcanada.org
SUMMARY:Phase 2 Training in Edmonton
DESCRIPTION:APPLICATION INFORMATION:  \nIf you have already completed Phase 1 of the Basic Training and wish to join our offering of Phase 2\, please contact us at education@rolfingcanada.org. \nOnce you have submitted the necessary documentation to info@rolfingcanada.org and paid the $100 application fee\, your application will be reviewed by the education committee.  Successful applicants* will be contacted to register into the program.  \nTo apply for the Basic Training Program\, please complete one of the following applications: \n\nRegular Phase 1 Application\nAccelerated Phase 1 Application*\n\n*If you have already completed a minimum 250-hour bodywork program of some kind\, you may qualify for the Accelerated Phase I\, otherwise please use the Regular Application Form. \n*Please note that an applicant may be accepted into the program with or without conditions based on the application process.  Any conditions will need to be met prior to start of class (the education committee will set specific deadlines on a case by case basis). \nINFORMATION FOR PHASE 2 \nDATE: October 14\, 2025 – November 27\, 2025 \nSCHEDULE: \n\n\n\nWeek 1  – October 14-17 (Tues – Fri\, 8:30am – 6:00pm)\nWeek 2 – October 20-23 (Mon – Thu\, 8:30am – 6:00pm)\nWeek 3 – October 27-30 (Mon – Thu\, 8:30am – 6:00pm)\nWeek 4 – November 3-6 (Mon – Thu\, 8:30am – 6:00pm)\nWeek 5 – November 10-13 (Mon – Thu\, 8:30am – 6:00pm)\nWeek 6 – November 17-20 (Mon – Thu\, 8:30am – 6:00pm)\nWeek 7 – November  24-27(Mon-Thu\, 8:30am – 6:00pm)\n\n\n\nLOCATION: Edmonton\, AB \nVENUE: Chiropractic Plus Wellness\, 9811 34 Ave NW #101\, Edmonton\, AB \nCOST: \nPhase 2 – $9000.00 CAD*** \nPAYMENT OPTIONS: \n\n\n\nSend an e-transfer (and password) to info@rolfingcanada.org.\nOr make cheques payable to the Rolfing Association of Canada.\nRAC mailing address – Suite 289\, 17008-90 Ave\, Edmonton AB\, T5T 1L6.\n\n\n\nCANCELLATION POLICY***: \n\n\n\nThe $100 application fee is non-refundable.\nThe $1000 deposit is refundable (minus $50 admin fee) within 48 hours of payment received.  After 48 hours\, the deposit is non-refundable.\nAny subsequent payments towards the balance owed is non-refundable.\n\n\n\n  \n*** Class costs\, payment schedules and cancellation policies are subject to change at anytime.
URL:https://rolfingcanada.org/event/phase-2-training-in-edmonton/
LOCATION:Chiropractic Plus Wellness\, 9811 34 Avenue NW #101\, Edmonton\, AB\, T6E 5X9\, Canada
CATEGORIES:Basic Training
ORGANIZER;CN="Rolfing Association of Canada":MAILTO:info@rolfingcanada.org
END:VEVENT
BEGIN:VEVENT
DTSTART;TZID=America/Edmonton:20250714T080000
DTEND;TZID=America/Edmonton:20250830T173000
DTSTAMP:20260422T044327
CREATED:20250330T193252Z
LAST-MODIFIED:20250330T193252Z
UID:7328-1752480000-1756575000@rolfingcanada.org
SUMMARY:Phase I Training in Edmonton
DESCRIPTION:APPLICATION DEADLINE:  June 13\, 2025 \nTo apply for the Basic Training Program\, please complete one of the following applications: \n\nRegular Phase 1 Application\nAccelerated Phase 1 Application*\n\n*If you have already completed a minimum 250-hour bodywork program of some kind\, you may qualify for the Accelerated Phase I\, otherwise please use the Regular Application Form. \nOnce you have submitted the necessary documentation to info@rolfingcanada.org and paid the $100 application fee\, your application will be reviewed by the education committee.  Successful applicants* will be contacted to register for Phase 1.   \n*Please note that an applicant may be accepted into the program with or without conditions based on the application process.  Any conditions will need to be met prior to start of class (the education committee will set specific deadlines on a case by case basis). \nADDITIONAL INFO FOR PHASE 1 \nDATE: July 14\, 2025 – August 30\, 2025 \nSCHEDULE**: \n\n\n\nWeek 1  – July 14-18 (Mon – Fri\, 8am – 5:30pm)\nWeek 2 – July 21-25 (Mon – Fri\, 8am – 5:30pm)\nWeek 3 – July 28-31 (Mon – Thu\, 8am – 5:30pm)\nWeek 4 – Aug 5-8 (Tue – Fri\, 8am – 5:30pm)\nWeek 5 – Aug 11-15 (Tue – Fri\, 8am – 5:30pm)\nWeek 6 – Aug 18-23 (Mon – Fri\, 8am – 5:30pm; Sat 9am – 1pm)\nWeek 7– Aug 25-30(Mon-Fri\, 8am– 5:30pm; Sat 9am – 1pm)\n**Regular Phase 1 is all 7 weeks; Accelerated students join Weeks 4 – 7\n\n\n\nLOCATION: Edmonton\, AB \nVENUE: Chiropractic Plus Wellness\, 9811 34 Ave NW #101\, Edmonton\, AB \nCOST: \n\nRegular Phase 1 – $8000.00 CAD***\nAccelerated Phase 1 – $4800.00 CAD***\n\nPAYMENT SCHEDULE***: \n\n\n\nTo reserve a space in the class\, please send a $1000 deposit within 10 business days of being officially accepted into the program.\n1/2 of the remaining balance is due June 13\, 2025.\nThe remainder is due July 10th\, 2025.\n\n\n\nPAYMENT OPTIONS: \n\n\n\nSend an e-transfer (and password) to info@rolfingcanada.org.\nOr make cheques payable to the Rolfing Association of Canada.\nRAC mailing address – Suite 289\, 17008-90 Ave\, Edmonton AB\, T5T 1L6.\n\n\n\nCANCELLATION POLICY***: \n\n\n\nThe $100 application fee is non-refundable.\nThe $1000 deposit is refundable (minus $50 admin fee) within 48 hours of payment received.  After 48 hours\, the deposit is non-refundable.\nAny subsequent payments towards the balance owed is non-refundable.\n\n\n\n  \n*** Class costs\, payment schedules and cancellation policies are subject to change at anytime.
URL:https://rolfingcanada.org/event/phase-i-training-in-edmonton/
LOCATION:https://maps.app.goo.gl/deN51nLCsXvGe6Hn9\, 9811 34 Avenue NW\, Edmonton\, Alberta\, T6N 1B6\, Canada
CATEGORIES:Basic Training
END:VEVENT
BEGIN:VEVENT
DTSTART;TZID=America/Edmonton:20241025T080000
DTEND;TZID=America/Edmonton:20241027T170000
DTSTAMP:20260422T044327
CREATED:20240912T232403Z
LAST-MODIFIED:20240912T232601Z
UID:7130-1729843200-1730048400@rolfingcanada.org
SUMMARY:Continuing education opportunity: Study with Russell Stolzhoff in Victoria\, BC
DESCRIPTION:
URL:https://rolfingcanada.org/event/continuing-education-opportunity-study-with-russell-stolzhoff-in-victoria-bc/
CATEGORIES:Continuing Education
END:VEVENT
END:VCALENDAR