BEGIN:VCALENDAR
VERSION:2.0
PRODID:-//The Rolfing® Association of Canada - ECPv6.15.20//NONSGML v1.0//EN
CALSCALE:GREGORIAN
METHOD:PUBLISH
X-WR-CALNAME:The Rolfing® Association of Canada
X-ORIGINAL-URL:https://rolfingcanada.org
X-WR-CALDESC:Events for The Rolfing® Association of Canada
REFRESH-INTERVAL;VALUE=DURATION:PT1H
X-Robots-Tag:noindex
X-PUBLISHED-TTL:PT1H
BEGIN:VTIMEZONE
TZID:America/Edmonton
BEGIN:DAYLIGHT
TZOFFSETFROM:-0700
TZOFFSETTO:-0600
TZNAME:MDT
DTSTART:20240310T090000
END:DAYLIGHT
BEGIN:STANDARD
TZOFFSETFROM:-0600
TZOFFSETTO:-0700
TZNAME:MST
DTSTART:20241103T080000
END:STANDARD
BEGIN:DAYLIGHT
TZOFFSETFROM:-0700
TZOFFSETTO:-0600
TZNAME:MDT
DTSTART:20250309T090000
END:DAYLIGHT
BEGIN:STANDARD
TZOFFSETFROM:-0600
TZOFFSETTO:-0700
TZNAME:MST
DTSTART:20251102T080000
END:STANDARD
BEGIN:DAYLIGHT
TZOFFSETFROM:-0700
TZOFFSETTO:-0600
TZNAME:MDT
DTSTART:20260308T090000
END:DAYLIGHT
BEGIN:STANDARD
TZOFFSETFROM:-0600
TZOFFSETTO:-0700
TZNAME:MST
DTSTART:20261101T080000
END:STANDARD
END:VTIMEZONE
BEGIN:VEVENT
DTSTART;TZID=America/Edmonton:20250714T080000
DTEND;TZID=America/Edmonton:20250830T173000
DTSTAMP:20260421T194051
CREATED:20250330T193252Z
LAST-MODIFIED:20250330T193252Z
UID:7328-1752480000-1756575000@rolfingcanada.org
SUMMARY:Phase I Training in Edmonton
DESCRIPTION:APPLICATION DEADLINE:  June 13\, 2025 \nTo apply for the Basic Training Program\, please complete one of the following applications: \n\nRegular Phase 1 Application\nAccelerated Phase 1 Application*\n\n*If you have already completed a minimum 250-hour bodywork program of some kind\, you may qualify for the Accelerated Phase I\, otherwise please use the Regular Application Form. \nOnce you have submitted the necessary documentation to info@rolfingcanada.org and paid the $100 application fee\, your application will be reviewed by the education committee.  Successful applicants* will be contacted to register for Phase 1.   \n*Please note that an applicant may be accepted into the program with or without conditions based on the application process.  Any conditions will need to be met prior to start of class (the education committee will set specific deadlines on a case by case basis). \nADDITIONAL INFO FOR PHASE 1 \nDATE: July 14\, 2025 – August 30\, 2025 \nSCHEDULE**: \n\n\n\nWeek 1  – July 14-18 (Mon – Fri\, 8am – 5:30pm)\nWeek 2 – July 21-25 (Mon – Fri\, 8am – 5:30pm)\nWeek 3 – July 28-31 (Mon – Thu\, 8am – 5:30pm)\nWeek 4 – Aug 5-8 (Tue – Fri\, 8am – 5:30pm)\nWeek 5 – Aug 11-15 (Tue – Fri\, 8am – 5:30pm)\nWeek 6 – Aug 18-23 (Mon – Fri\, 8am – 5:30pm; Sat 9am – 1pm)\nWeek 7– Aug 25-30(Mon-Fri\, 8am– 5:30pm; Sat 9am – 1pm)\n**Regular Phase 1 is all 7 weeks; Accelerated students join Weeks 4 – 7\n\n\n\nLOCATION: Edmonton\, AB \nVENUE: Chiropractic Plus Wellness\, 9811 34 Ave NW #101\, Edmonton\, AB \nCOST: \n\nRegular Phase 1 – $8000.00 CAD***\nAccelerated Phase 1 – $4800.00 CAD***\n\nPAYMENT SCHEDULE***: \n\n\n\nTo reserve a space in the class\, please send a $1000 deposit within 10 business days of being officially accepted into the program.\n1/2 of the remaining balance is due June 13\, 2025.\nThe remainder is due July 10th\, 2025.\n\n\n\nPAYMENT OPTIONS: \n\n\n\nSend an e-transfer (and password) to info@rolfingcanada.org.\nOr make cheques payable to the Rolfing Association of Canada.\nRAC mailing address – Suite 289\, 17008-90 Ave\, Edmonton AB\, T5T 1L6.\n\n\n\nCANCELLATION POLICY***: \n\n\n\nThe $100 application fee is non-refundable.\nThe $1000 deposit is refundable (minus $50 admin fee) within 48 hours of payment received.  After 48 hours\, the deposit is non-refundable.\nAny subsequent payments towards the balance owed is non-refundable.\n\n\n\n  \n*** Class costs\, payment schedules and cancellation policies are subject to change at anytime.
URL:https://rolfingcanada.org/event/phase-i-training-in-edmonton/
LOCATION:https://maps.app.goo.gl/deN51nLCsXvGe6Hn9\, 9811 34 Avenue NW\, Edmonton\, Alberta\, T6N 1B6\, Canada
CATEGORIES:Basic Training
END:VEVENT
END:VCALENDAR